BEGIN:VCALENDAR
METHOD:PUBLISH
PRODID:bi-dev-cms-rrze-de//Events//DE
VERSION:2.0
BEGIN:VEVENT
SUMMARY:Tag der Forschung der Philosophischen Fakultät und Fachbereic
 h Theologie
UID:040000008200E00074C5B7101A82E00800000000F0519F257968D9010000000000
 00000010000000EAC91FFAD54E0B41B1210E499D7996DD
DESCRIPTION:Der Tag der Forschung der Philosophischen Fakultät und Fa
 chbereich Theologie bietet Forschenden auf allen Qualifikationsebenen\
 , ihre vielfältige und hochkarätige Forschung sichtbar zu machen. We
 nn Sie mit einem Beitrag oder auch als Zuhörer*in teilnehmen möchten
 \, melden Sie sich bitte bis zum 16. April 2023 über das Onlineformul
 ar an: https://www.phil.fau.de/forschung/tdf/ Zugangsdaten und weitere
  Informationen zu Programm und Postersession werden nach Anmeldeschlus
 s allen angemeldeten Personen per Mail zur Verfügung gestellt. Bei Fr
 agen steht Ihnen das Büro für Forschung und wissenschaftlichen Nachw
 uchs jederzeit als Ansprechpartner zur Verfügung. Weitere Information
 en: https://www.phil.fau.de/forschung/tdf/
DTSTART:20230727T000000Z
DTEND:20230727T000000Z
LOCATION:Erlangen
DTSTAMP:20260421T084323Z
END:VEVENT
END:VCALENDAR